BEGIN:VCALENDAR
VERSION:2.0
PRODID:-//Cool Monkey Press - ECPv5.14.2.1//NONSGML v1.0//EN
CALSCALE:GREGORIAN
METHOD:PUBLISH
X-WR-CALNAME:Cool Monkey Press
X-ORIGINAL-URL:https://shop.coolmonkeypress.com
X-WR-CALDESC:Events for Cool Monkey Press
BEGIN:VTIMEZONE
TZID:UTC
BEGIN:STANDARD
TZOFFSETFROM:+0000
TZOFFSETTO:+0000
TZNAME:UTC
DTSTART:20220101T000000
END:STANDARD
END:VTIMEZONE
BEGIN:VEVENT
DTSTART;VALUE=DATE:20220729
DTEND;VALUE=DATE:20220801
DTSTAMP:20260424T164311
CREATED:20220508T234849Z
LAST-MODIFIED:20220727T231304Z
UID:8261-1659052800-1659311999@shop.coolmonkeypress.com
SUMMARY:Mohegan Sun Expo Center with author Matt Herring
DESCRIPTION:
URL:https://shop.coolmonkeypress.com/event/mohegan-sun-expo-center-with-author-matt-herring-3/
LOCATION:Mohegan Sun Expo Center\, 1 Mohegan Sun Boulevard\, Uncasville\, CT\, United States
CATEGORIES:Conventions
END:VEVENT
END:VCALENDAR