BEGIN:VCALENDAR
VERSION:2.0
PRODID:-//Cool Monkey Press - ECPv5.14.2.1//NONSGML v1.0//EN
CALSCALE:GREGORIAN
METHOD:PUBLISH
X-WR-CALNAME:Cool Monkey Press
X-ORIGINAL-URL:https://shop.coolmonkeypress.com
X-WR-CALDESC:Events for Cool Monkey Press
BEGIN:VTIMEZONE
TZID:UTC
BEGIN:STANDARD
TZOFFSETFROM:+0000
TZOFFSETTO:+0000
TZNAME:UTC
DTSTART:20220101T000000
END:STANDARD
END:VTIMEZONE
BEGIN:VEVENT
DTSTART;VALUE=DATE:20221006
DTEND;VALUE=DATE:20221010
DTSTAMP:20260424T113011
CREATED:20220727T230011Z
LAST-MODIFIED:20220727T231230Z
UID:8319-1665014400-1665359999@shop.coolmonkeypress.com
SUMMARY:New York Comic Con
DESCRIPTION:
URL:https://shop.coolmonkeypress.com/event/new-york-comic-con/
LOCATION:Jacob Javits Center\, 655 West 34th Street\, New York\, 10014\, United States
CATEGORIES:Conventions
ATTACH;FMTTYPE=image/png:https://shop.coolmonkeypress.com/wp-content/uploads/2022/07/Screen-Shot-2022-07-27-at-7.02.35-PM.png
END:VEVENT
END:VCALENDAR